BEGIN:VCALENDAR
VERSION:2.0
PRODID:JMS Hockey
X-PUBLISHED-TTL:P1W
BEGIN:VEVENT
UID:69e79f4a73348
DTSTART:20121017T023000Z
SEQUENCE:0
TRANSP:OPAQUE
DTEND:20121017T040000Z
URL:http://jmshockey.com/games/4609
LOCATION:New Hope Ice Arena
SUMMARY:Lower Level Game at New Hope Ice Arena
CLASS:PUBLIC
DTSTAMP:20260421T110114Z
END:VEVENT
END:VCALENDAR