BEGIN:VCALENDAR
VERSION:2.0
PRODID:JMS Hockey
X-PUBLISHED-TTL:P1W
BEGIN:VEVENT
UID:69e7aeb94135d
DTSTART:20121130T033000Z
SEQUENCE:0
TRANSP:OPAQUE
DTEND:20121130T050000Z
URL:http://jmshockey.com/games/4586
LOCATION:Apple Valley Sports Arena
SUMMARY:Upper Level Game at Apple Valley Sports Arena
CLASS:PUBLIC
DTSTAMP:20260421T120705Z
END:VEVENT
END:VCALENDAR