BEGIN:VCALENDAR
VERSION:2.0
PRODID:JMS Hockey
X-PUBLISHED-TTL:P1W
BEGIN:VEVENT
UID:69e7c1719e65d
DTSTART:20121219T033000Z
SEQUENCE:0
TRANSP:OPAQUE
DTEND:20121219T050000Z
URL:http://jmshockey.com/games/4581
LOCATION:Apple Valley Sports Arena
SUMMARY:Lower Level Game at Apple Valley Sports Arena
CLASS:PUBLIC
DTSTAMP:20260421T132657Z
END:VEVENT
END:VCALENDAR