BEGIN:VCALENDAR
VERSION:2.0
PRODID:JMS Hockey
X-PUBLISHED-TTL:P1W
BEGIN:VEVENT
UID:69e7c170ce2ab
DTSTART:20121024T023000Z
SEQUENCE:0
TRANSP:OPAQUE
DTEND:20121024T040000Z
URL:http://jmshockey.com/games/4572
LOCATION:Apple Valley Sports Arena
SUMMARY:Lower Level Game at Apple Valley Sports Arena
CLASS:PUBLIC
DTSTAMP:20260421T132656Z
END:VEVENT
END:VCALENDAR