BEGIN:VCALENDAR
VERSION:2.0
PRODID:JMS Hockey
X-PUBLISHED-TTL:P1W
BEGIN:VEVENT
UID:69e7cadd66f4a
DTSTART:20120908T013000Z
SEQUENCE:0
TRANSP:OPAQUE
DTEND:20120908T030000Z
URL:http://jmshockey.com/games/4571
LOCATION:Eden Prairie Comm Ctr
SUMMARY:Lower Level Game at Eden Prairie Comm Ctr
CLASS:PUBLIC
DTSTAMP:20260421T140709Z
END:VEVENT
END:VCALENDAR