BEGIN:VCALENDAR
VERSION:2.0
PRODID:JMS Hockey
X-PUBLISHED-TTL:P1W
BEGIN:VEVENT
UID:69e7c36d74a8a
DTSTART:20121217T034500Z
SEQUENCE:0
TRANSP:OPAQUE
DTEND:20121217T051500Z
URL:http://jmshockey.com/games/4558
LOCATION:Parade Ice Gardens
SUMMARY:All level Game at Parade Ice Gardens
CLASS:PUBLIC
DTSTAMP:20260421T133525Z
END:VEVENT
END:VCALENDAR