BEGIN:VCALENDAR
VERSION:2.0
PRODID:JMS Hockey
X-PUBLISHED-TTL:P1W
BEGIN:VEVENT
UID:69e7d86f647a1
DTSTART:20121215T034500Z
SEQUENCE:0
TRANSP:OPAQUE
DTEND:20121215T051500Z
URL:http://jmshockey.com/games/4557
LOCATION:Parade Ice Gardens
SUMMARY:Upper Level Game at Parade Ice Gardens
CLASS:PUBLIC
DTSTAMP:20260421T150503Z
END:VEVENT
END:VCALENDAR