BEGIN:VCALENDAR
VERSION:2.0
PRODID:JMS Hockey
X-PUBLISHED-TTL:P1W
BEGIN:VEVENT
UID:69e7add077bad
DTSTART:20121210T023000Z
SEQUENCE:0
TRANSP:OPAQUE
DTEND:20121210T040000Z
URL:http://jmshockey.com/games/4556
LOCATION:Parade Ice Gardens
SUMMARY:All level Game at Parade Ice Gardens
CLASS:PUBLIC
DTSTAMP:20260421T120312Z
END:VEVENT
END:VCALENDAR