BEGIN:VCALENDAR
VERSION:2.0
PRODID:JMS Hockey
X-PUBLISHED-TTL:P1W
BEGIN:VEVENT
UID:69e7b9b063fe3
DTSTART:20121126T024500Z
SEQUENCE:0
TRANSP:OPAQUE
DTEND:20121126T041500Z
URL:http://jmshockey.com/games/4552
LOCATION:Parade Ice Gardens
SUMMARY:All level Game at Parade Ice Gardens
CLASS:PUBLIC
DTSTAMP:20260421T125352Z
END:VEVENT
END:VCALENDAR