BEGIN:VCALENDAR
VERSION:2.0
PRODID:JMS Hockey
X-PUBLISHED-TTL:P1W
BEGIN:VEVENT
UID:69e7c356e6ced
DTSTART:20130129T034500Z
SEQUENCE:0
TRANSP:OPAQUE
DTEND:20130129T051500Z
URL:http://jmshockey.com/games/4535
LOCATION:Northeast Arena
SUMMARY:Level 3 Game at Northeast Arena
CLASS:PUBLIC
DTSTAMP:20260421T133502Z
END:VEVENT
END:VCALENDAR