BEGIN:VCALENDAR
VERSION:2.0
PRODID:JMS Hockey
X-PUBLISHED-TTL:P1W
BEGIN:VEVENT
UID:69e7d4c136c14
DTSTART:20130122T033000Z
SEQUENCE:0
TRANSP:OPAQUE
DTEND:20130122T050000Z
URL:http://jmshockey.com/games/4534
LOCATION:Northeast Arena
SUMMARY:Lower Level Game at Northeast Arena
CLASS:PUBLIC
DTSTAMP:20260421T144921Z
END:VEVENT
END:VCALENDAR