BEGIN:VCALENDAR
VERSION:2.0
PRODID:JMS Hockey
X-PUBLISHED-TTL:P1W
BEGIN:VEVENT
UID:69e7a77bb05aa
DTSTART:20121113T040000Z
SEQUENCE:0
TRANSP:OPAQUE
DTEND:20121113T053000Z
URL:http://jmshockey.com/games/4526
LOCATION:Northeast Arena
SUMMARY:Level 3 Game at Northeast Arena
CLASS:PUBLIC
DTSTAMP:20260421T113611Z
END:VEVENT
END:VCALENDAR