BEGIN:VCALENDAR
VERSION:2.0
PRODID:JMS Hockey
X-PUBLISHED-TTL:P1W
BEGIN:VEVENT
UID:69e7cae4aec33
DTSTART:20121030T023000Z
SEQUENCE:0
TRANSP:OPAQUE
DTEND:20121030T040000Z
URL:http://jmshockey.com/games/4524
LOCATION:Northeast Arena
SUMMARY:Level 3 Game at Northeast Arena
CLASS:PUBLIC
DTSTAMP:20260421T140716Z
END:VEVENT
END:VCALENDAR