BEGIN:VCALENDAR
VERSION:2.0
PRODID:JMS Hockey
X-PUBLISHED-TTL:P1W
BEGIN:VEVENT
UID:69e7b9aea6392
DTSTART:20121009T020000Z
SEQUENCE:0
TRANSP:OPAQUE
DTEND:20121009T033000Z
URL:http://jmshockey.com/games/4520
LOCATION:Northeast Arena
SUMMARY:Level 3 Game at Northeast Arena
CLASS:PUBLIC
DTSTAMP:20260421T125350Z
END:VEVENT
END:VCALENDAR