BEGIN:VCALENDAR
VERSION:2.0
PRODID:JMS Hockey
X-PUBLISHED-TTL:P1W
BEGIN:VEVENT
UID:69e7adc3e5c41
DTSTART:20121222T035000Z
SEQUENCE:0
TRANSP:OPAQUE
DTEND:20121222T052000Z
URL:http://jmshockey.com/games/4516
LOCATION:Doug Woog Arena (Wakota)
SUMMARY:Level 2 Game at Doug Woog Arena (Wakota)
CLASS:PUBLIC
DTSTAMP:20260421T120259Z
END:VEVENT
END:VCALENDAR