BEGIN:VCALENDAR
VERSION:2.0
PRODID:JMS Hockey
X-PUBLISHED-TTL:P1W
BEGIN:VEVENT
UID:69e7c8c22856c
DTSTART:20121009T014000Z
SEQUENCE:0
TRANSP:OPAQUE
DTEND:20121009T031000Z
URL:http://jmshockey.com/games/4504
LOCATION:Doug Woog Arena (Wakota)
SUMMARY:Lower Level Game at Doug Woog Arena (Wakota)
CLASS:PUBLIC
DTSTAMP:20260421T135810Z
END:VEVENT
END:VCALENDAR