BEGIN:VCALENDAR
VERSION:2.0
PRODID:JMS Hockey
X-PUBLISHED-TTL:P1W
BEGIN:VEVENT
UID:69e7732348656
DTSTART:20121201T033000Z
SEQUENCE:0
TRANSP:OPAQUE
DTEND:20121201T050000Z
URL:http://jmshockey.com/games/4498
LOCATION:Doug Woog Arena (Wakota)
SUMMARY:Level 2 Game at Doug Woog Arena (Wakota)
CLASS:PUBLIC
DTSTAMP:20260421T075251Z
END:VEVENT
END:VCALENDAR