BEGIN:VCALENDAR
VERSION:2.0
PRODID:JMS Hockey
X-PUBLISHED-TTL:P1W
BEGIN:VEVENT
UID:69e79a1dca0bc
DTSTART:20121031T024000Z
SEQUENCE:0
TRANSP:OPAQUE
DTEND:20121031T041000Z
URL:http://jmshockey.com/games/4490
LOCATION:Doug Woog Arena (Wakota)
SUMMARY:Upper Level Game at Doug Woog Arena (Wakota)
CLASS:PUBLIC
DTSTAMP:20260421T103909Z
END:VEVENT
END:VCALENDAR