BEGIN:VCALENDAR
VERSION:2.0
PRODID:JMS Hockey
X-PUBLISHED-TTL:P1W
BEGIN:VEVENT
UID:69e7c13de1b16
DTSTART:20121027T010000Z
SEQUENCE:0
TRANSP:OPAQUE
DTEND:20121027T023000Z
URL:http://jmshockey.com/games/4489
LOCATION:Doug Woog Arena (Wakota)
SUMMARY:Level 2 Game at Doug Woog Arena (Wakota)
CLASS:PUBLIC
DTSTAMP:20260421T132605Z
END:VEVENT
END:VCALENDAR