BEGIN:VCALENDAR
VERSION:2.0
PRODID:JMS Hockey
X-PUBLISHED-TTL:P1W
BEGIN:VEVENT
UID:69e7d65592c9a
DTSTART:20121017T023000Z
SEQUENCE:0
TRANSP:OPAQUE
DTEND:20121017T040000Z
URL:http://jmshockey.com/games/4487
LOCATION:Doug Woog Arena (Wakota)
SUMMARY:Upper Level Game at Doug Woog Arena (Wakota)
CLASS:PUBLIC
DTSTAMP:20260421T145605Z
END:VEVENT
END:VCALENDAR