BEGIN:VCALENDAR
VERSION:2.0
PRODID:JMS Hockey
X-PUBLISHED-TTL:P1W
BEGIN:VEVENT
UID:69e79a1c6454c
DTSTART:20121013T013000Z
SEQUENCE:0
TRANSP:OPAQUE
DTEND:20121013T030000Z
URL:http://jmshockey.com/games/4486
LOCATION:Doug Woog Arena (Wakota)
SUMMARY:Level 2 Game at Doug Woog Arena (Wakota)
CLASS:PUBLIC
DTSTAMP:20260421T103908Z
END:VEVENT
END:VCALENDAR