BEGIN:VCALENDAR
VERSION:2.0
PRODID:JMS Hockey
X-PUBLISHED-TTL:P1W
BEGIN:VEVENT
UID:69e7b9df55fe6
DTSTART:20121003T013000Z
SEQUENCE:0
TRANSP:OPAQUE
DTEND:20121003T030000Z
URL:http://jmshockey.com/games/4483
LOCATION:Doug Woog Arena (Wakota)
SUMMARY:Upper Level Game at Doug Woog Arena (Wakota)
CLASS:PUBLIC
DTSTAMP:20260421T125439Z
END:VEVENT
END:VCALENDAR