BEGIN:VCALENDAR
VERSION:2.0
PRODID:JMS Hockey
X-PUBLISHED-TTL:P1W
BEGIN:VEVENT
UID:69e7d4c5e0679
DTSTART:20120926T014000Z
SEQUENCE:0
TRANSP:OPAQUE
DTEND:20120926T031000Z
URL:http://jmshockey.com/games/4482
LOCATION:Doug Woog Arena (Wakota)
SUMMARY:Upper Level Game at Doug Woog Arena (Wakota)
CLASS:PUBLIC
DTSTAMP:20260421T144925Z
END:VEVENT
END:VCALENDAR