BEGIN:VCALENDAR
VERSION:2.0
PRODID:JMS Hockey
X-PUBLISHED-TTL:P1W
BEGIN:VEVENT
UID:69e7b5989ef7c
DTSTART:20121127T033000Z
SEQUENCE:0
TRANSP:OPAQUE
DTEND:20121127T050000Z
URL:http://jmshockey.com/games/4474
LOCATION:St Thomas Ice Arena
SUMMARY:Elite Game at St Thomas Ice Arena
CLASS:PUBLIC
DTSTAMP:20260421T123624Z
END:VEVENT
END:VCALENDAR