BEGIN:VCALENDAR
VERSION:2.0
PRODID:JMS Hockey
X-PUBLISHED-TTL:P1W
BEGIN:VEVENT
UID:69e7b39a6de4d
DTSTART:20121116T033000Z
SEQUENCE:0
TRANSP:OPAQUE
DTEND:20121116T050000Z
URL:http://jmshockey.com/games/4472
LOCATION:St Thomas Ice Arena
SUMMARY:All level Game at St Thomas Ice Arena
CLASS:PUBLIC
DTSTAMP:20260421T122754Z
END:VEVENT
END:VCALENDAR