BEGIN:VCALENDAR
VERSION:2.0
PRODID:JMS Hockey
X-PUBLISHED-TTL:P1W
BEGIN:VEVENT
UID:69e7cac5a22bb
DTSTART:20130105T034500Z
SEQUENCE:0
TRANSP:OPAQUE
DTEND:20130105T051500Z
URL:http://jmshockey.com/games/4468
LOCATION:St Louis Park Rec Center
SUMMARY:Novice Game at St Louis Park Rec Center
CLASS:PUBLIC
DTSTAMP:20260421T140645Z
END:VEVENT
END:VCALENDAR