BEGIN:VCALENDAR
VERSION:2.0
PRODID:JMS Hockey
X-PUBLISHED-TTL:P1W
BEGIN:VEVENT
UID:69e79d7a85d21
DTSTART:20121020T013000Z
SEQUENCE:0
TRANSP:OPAQUE
DTEND:20121020T030000Z
URL:http://jmshockey.com/games/4467
LOCATION:St Louis Park Rec Center
SUMMARY:Novice Game at St Louis Park Rec Center
CLASS:PUBLIC
DTSTAMP:20260421T105330Z
END:VEVENT
END:VCALENDAR