BEGIN:VCALENDAR
VERSION:2.0
PRODID:JMS Hockey
X-PUBLISHED-TTL:P1W
BEGIN:VEVENT
UID:69e7c1723cce2
DTSTART:20130124T023000Z
SEQUENCE:0
TRANSP:OPAQUE
DTEND:20130124T040000Z
URL:http://jmshockey.com/games/4456
LOCATION:Polar Arena
SUMMARY:Upper Level Game at Polar Arena
CLASS:PUBLIC
DTSTAMP:20260421T132658Z
END:VEVENT
END:VCALENDAR