BEGIN:VCALENDAR
VERSION:2.0
PRODID:JMS Hockey
X-PUBLISHED-TTL:P1W
BEGIN:VEVENT
UID:69e7a74140661
DTSTART:20121220T023000Z
SEQUENCE:0
TRANSP:OPAQUE
DTEND:20121220T040000Z
URL:http://jmshockey.com/games/4452
LOCATION:Polar Arena
SUMMARY:Upper Level Game at Polar Arena
CLASS:PUBLIC
DTSTAMP:20260421T113513Z
END:VEVENT
END:VCALENDAR