BEGIN:VCALENDAR
VERSION:2.0
PRODID:JMS Hockey
X-PUBLISHED-TTL:P1W
BEGIN:VEVENT
UID:69e7dcd861aa5
DTSTART:20090408T003000Z
SEQUENCE:0
TRANSP:OPAQUE
DTEND:20090408T020000Z
URL:http://jmshockey.com/games/444
LOCATION:Eden Prairie Comm Ctr
SUMMARY:Level 3 Game at Eden Prairie Comm Ctr
CLASS:PUBLIC
DTSTAMP:20260421T152352Z
END:VEVENT
END:VCALENDAR