BEGIN:VCALENDAR
VERSION:2.0
PRODID:JMS Hockey
X-PUBLISHED-TTL:P1W
BEGIN:VEVENT
UID:69e7a37e6e4c6
DTSTART:20130216T040000Z
SEQUENCE:0
TRANSP:OPAQUE
DTEND:20130216T053000Z
URL:http://jmshockey.com/games/4423
LOCATION:Fogerty Icehouse
SUMMARY:All level Game at Fogerty Icehouse
CLASS:PUBLIC
DTSTAMP:20260421T111910Z
END:VEVENT
END:VCALENDAR