BEGIN:VCALENDAR
VERSION:2.0
PRODID:JMS Hockey
X-PUBLISHED-TTL:P1W
BEGIN:VEVENT
UID:69e7cb59a9bf1
DTSTART:20130130T034000Z
SEQUENCE:0
TRANSP:OPAQUE
DTEND:20130130T051000Z
URL:http://jmshockey.com/games/4418
LOCATION:Fogerty Icehouse
SUMMARY:Upper Level Game at Fogerty Icehouse
CLASS:PUBLIC
DTSTAMP:20260421T140913Z
END:VEVENT
END:VCALENDAR