BEGIN:VCALENDAR
VERSION:2.0
PRODID:JMS Hockey
X-PUBLISHED-TTL:P1W
BEGIN:VEVENT
UID:69e7c383292c2
DTSTART:20121110T040000Z
SEQUENCE:0
TRANSP:OPAQUE
DTEND:20121110T053000Z
URL:http://jmshockey.com/games/4397
LOCATION:Fogerty Icehouse
SUMMARY:All level Game at Fogerty Icehouse
CLASS:PUBLIC
DTSTAMP:20260421T133547Z
END:VEVENT
END:VCALENDAR