BEGIN:VCALENDAR
VERSION:2.0
PRODID:JMS Hockey
X-PUBLISHED-TTL:P1W
BEGIN:VEVENT
UID:69e7c2d36c1e6
DTSTART:20090404T003000Z
SEQUENCE:0
TRANSP:OPAQUE
DTEND:20090404T020000Z
URL:http://jmshockey.com/games/439
LOCATION:New Hope Ice Arena
SUMMARY:Level 1 Game at New Hope Ice Arena
CLASS:PUBLIC
DTSTAMP:20260421T133251Z
END:VEVENT
END:VCALENDAR