BEGIN:VCALENDAR
VERSION:2.0
PRODID:JMS Hockey
X-PUBLISHED-TTL:P1W
BEGIN:VEVENT
UID:69e7cea72f717
DTSTART:20121018T024500Z
SEQUENCE:0
TRANSP:OPAQUE
DTEND:20121018T041500Z
URL:http://jmshockey.com/games/4370
LOCATION:Bloomington Ice Gardens
SUMMARY:Level 2 Game at Bloomington Ice Gardens
CLASS:PUBLIC
DTSTAMP:20260421T142319Z
END:VEVENT
END:VCALENDAR