BEGIN:VCALENDAR
VERSION:2.0
PRODID:JMS Hockey
X-PUBLISHED-TTL:P1W
BEGIN:VEVENT
UID:69e835da3f4af
DTSTART:20090404T014500Z
SEQUENCE:0
TRANSP:OPAQUE
DTEND:20090404T031500Z
URL:http://jmshockey.com/games/437
LOCATION:Phalen Arena
SUMMARY:Level 3 Game at Phalen Arena
CLASS:PUBLIC
DTSTAMP:20260421T214338Z
END:VEVENT
END:VCALENDAR