BEGIN:VCALENDAR
VERSION:2.0
PRODID:JMS Hockey
X-PUBLISHED-TTL:P1W
BEGIN:VEVENT
UID:69e795bb3a38b
DTSTART:20120922T004500Z
SEQUENCE:0
TRANSP:OPAQUE
DTEND:20120922T021500Z
URL:http://jmshockey.com/games/4365
LOCATION:Bloomington Ice Gardens
SUMMARY:Level 3 Game at Bloomington Ice Gardens
CLASS:PUBLIC
DTSTAMP:20260421T102027Z
END:VEVENT
END:VCALENDAR