BEGIN:VCALENDAR
VERSION:2.0
PRODID:JMS Hockey
X-PUBLISHED-TTL:P1W
BEGIN:VEVENT
UID:69e7d51be0674
DTSTART:20120906T024500Z
SEQUENCE:0
TRANSP:OPAQUE
DTEND:20120906T041500Z
URL:http://jmshockey.com/games/4361
LOCATION:Bloomington Ice Gardens
SUMMARY:Level 2 Game at Bloomington Ice Gardens
CLASS:PUBLIC
DTSTAMP:20260421T145051Z
END:VEVENT
END:VCALENDAR