BEGIN:VCALENDAR
VERSION:2.0
PRODID:JMS Hockey
X-PUBLISHED-TTL:P1W
BEGIN:VEVENT
UID:69e7bb3c1e9bc
DTSTART:20120905T013000Z
SEQUENCE:0
TRANSP:OPAQUE
DTEND:20120905T030000Z
URL:http://jmshockey.com/games/4360
LOCATION:Doug Woog Arena (Wakota)
SUMMARY:Upper Level Game at Doug Woog Arena (Wakota)
CLASS:PUBLIC
DTSTAMP:20260421T130028Z
END:VEVENT
END:VCALENDAR