BEGIN:VCALENDAR
VERSION:2.0
PRODID:JMS Hockey
X-PUBLISHED-TTL:P1W
BEGIN:VEVENT
UID:69e7c2d18ec88
DTSTART:20130425T010000Z
SEQUENCE:0
TRANSP:OPAQUE
DTEND:20130425T023000Z
URL:http://jmshockey.com/games/4354
LOCATION:Maple Grove
SUMMARY:Level 3 Game at Maple Grove
CLASS:PUBLIC
DTSTAMP:20260421T133249Z
END:VEVENT
END:VCALENDAR