BEGIN:VCALENDAR
VERSION:2.0
PRODID:JMS Hockey
X-PUBLISHED-TTL:P1W
BEGIN:VEVENT
UID:69e7b12bcec23
DTSTART:20130321T023000Z
SEQUENCE:0
TRANSP:OPAQUE
DTEND:20130321T040000Z
URL:http://jmshockey.com/games/4349
LOCATION:Maple Grove
SUMMARY:Level 3 Game at Maple Grove
CLASS:PUBLIC
DTSTAMP:20260421T121731Z
END:VEVENT
END:VCALENDAR