BEGIN:VCALENDAR
VERSION:2.0
PRODID:JMS Hockey
X-PUBLISHED-TTL:P1W
BEGIN:VEVENT
UID:69e7ea15b5110
DTSTART:20121025T023000Z
SEQUENCE:0
TRANSP:OPAQUE
DTEND:20121025T040000Z
URL:http://jmshockey.com/games/4333
LOCATION:Maple Grove
SUMMARY:Level 3 Game at Maple Grove
CLASS:PUBLIC
DTSTAMP:20260421T162021Z
END:VEVENT
END:VCALENDAR