BEGIN:VCALENDAR
VERSION:2.0
PRODID:JMS Hockey
X-PUBLISHED-TTL:P1W
BEGIN:VEVENT
UID:69e7ca7e0c578
DTSTART:20121018T020000Z
SEQUENCE:0
TRANSP:OPAQUE
DTEND:20121018T033000Z
URL:http://jmshockey.com/games/4332
LOCATION:Maple Grove
SUMMARY:Level 3 Game at Maple Grove
CLASS:PUBLIC
DTSTAMP:20260421T140534Z
END:VEVENT
END:VCALENDAR