BEGIN:VCALENDAR
VERSION:2.0
PRODID:JMS Hockey
X-PUBLISHED-TTL:P1W
BEGIN:VEVENT
UID:69e7a73ad86eb
DTSTART:20121004T023000Z
SEQUENCE:0
TRANSP:OPAQUE
DTEND:20121004T040000Z
URL:http://jmshockey.com/games/4330
LOCATION:Maple Grove
SUMMARY:Level 3 Game at Maple Grove
CLASS:PUBLIC
DTSTAMP:20260421T113506Z
END:VEVENT
END:VCALENDAR