BEGIN:VCALENDAR
VERSION:2.0
PRODID:JMS Hockey
X-PUBLISHED-TTL:P1W
BEGIN:VEVENT
UID:69e7a76ca3942
DTSTART:20120920T023000Z
SEQUENCE:0
TRANSP:OPAQUE
DTEND:20120920T040000Z
URL:http://jmshockey.com/games/4328
LOCATION:Maple Grove
SUMMARY:Level 3 Game at Maple Grove
CLASS:PUBLIC
DTSTAMP:20260421T113556Z
END:VEVENT
END:VCALENDAR