BEGIN:VCALENDAR
VERSION:2.0
PRODID:JMS Hockey
X-PUBLISHED-TTL:P1W
BEGIN:VEVENT
UID:69e7fb8267652
DTSTART:20121219T033000Z
SEQUENCE:0
TRANSP:OPAQUE
DTEND:20121219T050000Z
URL:http://jmshockey.com/games/4326
LOCATION:St Louis Park Rec Center
SUMMARY:Level 4 Game at St Louis Park Rec Center
CLASS:PUBLIC
DTSTAMP:20260421T173442Z
END:VEVENT
END:VCALENDAR