BEGIN:VCALENDAR
VERSION:2.0
PRODID:JMS Hockey
X-PUBLISHED-TTL:P1W
BEGIN:VEVENT
UID:69e7d52ac8d12
DTSTART:20120925T021500Z
SEQUENCE:0
TRANSP:OPAQUE
DTEND:20120925T034500Z
URL:http://jmshockey.com/games/4290
LOCATION:Minnetonka Ice Arena
SUMMARY:Lower Level Game at Minnetonka Ice Arena
CLASS:PUBLIC
DTSTAMP:20260421T145106Z
END:VEVENT
END:VCALENDAR