BEGIN:VCALENDAR
VERSION:2.0
PRODID:JMS Hockey
X-PUBLISHED-TTL:P1W
BEGIN:VEVENT
UID:69e7c3464f95d
DTSTART:20120726T020000Z
SEQUENCE:0
TRANSP:OPAQUE
DTEND:20120726T033000Z
URL:http://jmshockey.com/games/4268
LOCATION:Maple Grove
SUMMARY:Level 3 Game at Maple Grove
CLASS:PUBLIC
DTSTAMP:20260421T133446Z
END:VEVENT
END:VCALENDAR