BEGIN:VCALENDAR
VERSION:2.0
PRODID:JMS Hockey
X-PUBLISHED-TTL:P1W
BEGIN:VEVENT
UID:69e7ad94cbc9a
DTSTART:20121030T024000Z
SEQUENCE:0
TRANSP:OPAQUE
DTEND:20121030T041000Z
URL:http://jmshockey.com/games/4267
LOCATION:St Thomas Ice Arena
SUMMARY:Elite Game at St Thomas Ice Arena
CLASS:PUBLIC
DTSTAMP:20260421T120212Z
END:VEVENT
END:VCALENDAR