BEGIN:VCALENDAR
VERSION:2.0
PRODID:JMS Hockey
X-PUBLISHED-TTL:P1W
BEGIN:VEVENT
UID:69e79a1172c59
DTSTART:20121005T024000Z
SEQUENCE:0
TRANSP:OPAQUE
DTEND:20121005T041000Z
URL:http://jmshockey.com/games/4262
LOCATION:St Thomas Ice Arena
SUMMARY:All level Game at St Thomas Ice Arena
CLASS:PUBLIC
DTSTAMP:20260421T103857Z
END:VEVENT
END:VCALENDAR